BEGIN:VCALENDAR
VERSION:2.0
PRODID:-//EmprenZona//ES
CALSCALE:GREGORIAN
METHOD:PUBLISH
BEGIN:VEVENT
UID:fair-56@emprenzona.com.ar
DTSTAMP:20260423T192240Z
DTSTART:20260426T120000
DTEND:20260426T200000
SUMMARY:EXPOLUZ - Casa Quilmes
DESCRIPTION:Expo para emprendimientos con fecha publicada en Casa Quilmes.\n\nInstagram
 : @expo.luz.lp\nVer más: https://emprenzona.com.ar/evento/56
LOCATION:Casa Quilmes\, Av. 53 e/ 5 y 6\, La Plata
URL:https://emprenzona.com.ar/evento/56
END:VEVENT
END:VCALENDAR
