BEGIN:VCALENDAR
VERSION:2.0
PRODID:-//EmprenZona//ES
CALSCALE:GREGORIAN
METHOD:PUBLISH
BEGIN:VEVENT
UID:fair-59@emprenzona.com.ar
DTSTAMP:20260423T192641Z
DTSTART:20260425T120000
DTEND:20260426T200000
SUMMARY:Feria de Artesanias Plaza Francia - 25 y 26 de abril
DESCRIPTION:Edicion de fin de semana de la Feria de Artesanias Plaza Francia.\n\nInstag
 ram: @artesanosplazafrancia\nVer más: https://emprenzona.com.ar/evento/59
LOCATION:Avenida Libertador y Av. Pueyrredon\, Recoleta\, CABA
URL:https://emprenzona.com.ar/evento/59
END:VEVENT
END:VCALENDAR
