BEGIN:VCALENDAR
VERSION:2.0
PRODID:-//EmprenZona//ES
CALSCALE:GREGORIAN
METHOD:PUBLISH
BEGIN:VEVENT
UID:fair-60@emprenzona.com.ar
DTSTAMP:20260423T191336Z
DTSTART:20260425T120000
DTEND:20260426T200000
SUMMARY:Feria Honduras - 25 y 26 de abril
DESCRIPTION:Edicion de fin de semana de Feria Honduras.\n\nInstagram: @feriahonduras_pl
 azaserrano\nVer más: https://emprenzona.com.ar/evento/60
LOCATION:Honduras entre Serrano y Thames\, Palermo\, CABA
URL:https://emprenzona.com.ar/evento/60
END:VEVENT
END:VCALENDAR
