BEGIN:VCALENDAR
VERSION:2.0
PRODID:-//EmprenZona//ES
CALSCALE:GREGORIAN
METHOD:PUBLISH
BEGIN:VEVENT
UID:fair-41@emprenzona.com.ar
DTSTAMP:20260421T080356Z
DTSTART:20260424T120000
DTEND:20260426T220000
SUMMARY:Ke Feria! - Plaza Alem
DESCRIPTION:Feria 3 días en Plaza Alem\, Lanús Este. Puestos 1\,50×1\,50×2\,00 con 
 tablón y silla. Tendido eléctrico incluido (traer guirnalda con enchufe)
 . Baños y limpieza. Canon: .000. Escribir para reservar lugar.\nVer más:
  https://emprenzona.com.ar/evento/ke-feria-plaza-alem-abril-2026
LOCATION:Plaza Alem\, Lanús Este
URL:https://emprenzona.com.ar/evento/ke-feria-plaza-alem-abril-2026
END:VEVENT
END:VCALENDAR
